BEGIN:VCALENDAR
VERSION:2.0
PRODID:icalendar-ruby
CALSCALE:GREGORIAN
METHOD:PUBLISH
X-WR-CALNAME:Kulturkalender der Universitäts- und Hansestadt Greifswald
BEGIN:VEVENT
DTSTAMP:20260423T055356Z
UID:471b29cb-5c53-4f32-9dae-20be342361ae
DTSTART:20260613T100000
DESCRIPTION:http://www.kulturkalender.greifswald.de/events/59242?start_on=2
 026-06-13
LOCATION:_Anderer Ort
SUMMARY:Tag der offenen Tür der Greifswalder Feuerwehr
END:VEVENT
END:VCALENDAR
