BEGIN:VCALENDAR
VERSION:2.0
PRODID:icalendar-ruby
CALSCALE:GREGORIAN
METHOD:PUBLISH
X-WR-CALNAME:Kulturkalender der Universitäts- und Hansestadt Greifswald
BEGIN:VEVENT
DTSTAMP:20260423T060551Z
UID:073f0be9-38d2-4ec6-96f5-bdc9b660482e
DTSTART:20260911T170000
DESCRIPTION:http://www.kulturkalender.greifswald.de/events/59234?start_on=2
 026-09-11
LOCATION:_Anderer Ort
SUMMARY:24. Greifswalder Kulturnacht
END:VEVENT
END:VCALENDAR
