BEGIN:VCALENDAR
VERSION:2.0
PRODID:icalendar-ruby
CALSCALE:GREGORIAN
METHOD:PUBLISH
X-WR-CALNAME:Kulturkalender der Universitäts- und Hansestadt Greifswald
BEGIN:VEVENT
DTSTAMP:20260421T175037Z
UID:2340f6b1-e3dd-490d-96c8-66739c6ddf2d
DTSTART;VALUE=DATE:20260326
DTEND;VALUE=DATE:20260430
LOCATION:Kunstkubus CUBIC
SUMMARY:PINK - PONG
END:VEVENT
END:VCALENDAR
