BEGIN:VCALENDAR
VERSION:2.0
PRODID:icalendar-ruby
CALSCALE:GREGORIAN
METHOD:PUBLISH
X-WR-CALNAME:Kulturkalender der Universitäts- und Hansestadt Greifswald
BEGIN:VEVENT
DTSTAMP:20260423T054637Z
UID:125e8c78-69d8-4471-b35d-90fb3a1c9026
DTSTART:20260531T100000
DESCRIPTION:http://www.kulturkalender.greifswald.de/events/59230?start_on=2
 026-05-31
LOCATION:_Anderer Ort
SUMMARY:Der Rosengarten im Johanniskloster Stralsund
END:VEVENT
END:VCALENDAR
