BEGIN:VCALENDAR
VERSION:2.0
PRODID:icalendar-ruby
CALSCALE:GREGORIAN
METHOD:PUBLISH
X-WR-CALNAME:Kulturkalender der Universitäts- und Hansestadt Greifswald
BEGIN:VEVENT
DTSTAMP:20260423T054627Z
UID:c4f96d0a-eff4-43c3-91b1-cc9c840e9f6c
DTSTART:20260511T190000
DESCRIPTION:http://www.kulturkalender.greifswald.de/events/59228?start_on=2
 026-05-11
LOCATION:_Anderer Ort
SUMMARY:Hans Volckmann (1885 - 1953) - Landwirt unter Reichsadler\, Hakenkr
 euz und Ährenkranz
END:VEVENT
END:VCALENDAR
