BEGIN:VCALENDAR
VERSION:2.0
PRODID:icalendar-ruby
CALSCALE:GREGORIAN
METHOD:PUBLISH
X-WR-CALNAME:Kulturkalender der Universitäts- und Hansestadt Greifswald
BEGIN:VEVENT
DTSTAMP:20260423T054627Z
UID:d8577fcb-417c-4cb1-a194-c652651b5ce7
DTSTART:20260509T100000
DESCRIPTION:http://www.kulturkalender.greifswald.de/events/59227?start_on=2
 026-05-09
LOCATION:_Anderer Ort
SUMMARY:Die Lüssower Senke in Stralsund - Eine Flächenökonomie im Wandel
  der Zeit
END:VEVENT
END:VCALENDAR
