BEGIN:VCALENDAR
VERSION:2.0
PRODID:icalendar-ruby
CALSCALE:GREGORIAN
METHOD:PUBLISH
X-WR-CALNAME:Kulturkalender der Universitäts- und Hansestadt Greifswald
BEGIN:VEVENT
DTSTAMP:20260423T054627Z
UID:4adef5b5-922e-48a7-93c5-bb9b06c0c6eb
DTSTART:20260613T090000
DESCRIPTION:http://www.kulturkalender.greifswald.de/events/59226?start_on=2
 026-06-13
LOCATION:_Anderer Ort
SUMMARY:Mit dem Rad zum Tag des offenen Gartens ins Gutshaus Falkenhagen
END:VEVENT
END:VCALENDAR
