BEGIN:VCALENDAR
VERSION:2.0
PRODID:icalendar-ruby
CALSCALE:GREGORIAN
METHOD:PUBLISH
X-WR-CALNAME:Kulturkalender der Universitäts- und Hansestadt Greifswald
BEGIN:VEVENT
DTSTAMP:20260420T041622Z
UID:bbfa0b13-f4c7-47c6-81a9-d89df1e34af2
DTSTART:20260520T160000
DESCRIPTION:http://www.kulturkalender.greifswald.de/events/59218?start_on=2
 026-05-20
LOCATION:_Anderer Ort
SUMMARY:Exkursion zum Thema „Flussaue Ryck“  20.05.2026
END:VEVENT
END:VCALENDAR
