BEGIN:VCALENDAR
VERSION:2.0
PRODID:icalendar-ruby
CALSCALE:GREGORIAN
METHOD:PUBLISH
X-WR-CALNAME:Kulturkalender der Universitäts- und Hansestadt Greifswald
BEGIN:VEVENT
DTSTAMP:20260420T041541Z
UID:b3912dbd-9f08-4f36-a0e5-0301cc66ed80
DTSTART:20260501T110000
DESCRIPTION:http://www.kulturkalender.greifswald.de/events/59215?start_on=2
 026-05-01
LOCATION:_Anderer Ort
SUMMARY:Auftakt zum STADTRADELN
END:VEVENT
END:VCALENDAR
