BEGIN:VCALENDAR
VERSION:2.0
PRODID:icalendar-ruby
CALSCALE:GREGORIAN
METHOD:PUBLISH
X-WR-CALNAME:Kulturkalender der Universitäts- und Hansestadt Greifswald
BEGIN:VEVENT
DTSTAMP:20260420T041008Z
UID:6b57cd32-a2ca-4f38-89ee-11967fdfcbd9
DTSTART:20260509T100000
DESCRIPTION:http://www.kulturkalender.greifswald.de/events/59214?start_on=2
 026-05-09
LOCATION:_Anderer Ort
SUMMARY:Frühling in den Karrendorfer Wiesen erleben
END:VEVENT
END:VCALENDAR
