BEGIN:VCALENDAR
VERSION:2.0
PRODID:icalendar-ruby
CALSCALE:GREGORIAN
METHOD:PUBLISH
X-WR-CALNAME:Kulturkalender der Universitäts- und Hansestadt Greifswald
BEGIN:VEVENT
DTSTAMP:20260420T041904Z
UID:cb70acaf-101a-43d0-943e-eecb3cf8c833
DTSTART:20260523T100000
DESCRIPTION:http://www.kulturkalender.greifswald.de/events/59213?start_on=2
 026-05-23
LOCATION:_Anderer Ort
SUMMARY:Natur entdecken: Exkursion durch die Karrendorfer Wiesen
END:VEVENT
END:VCALENDAR
