BEGIN:VCALENDAR
VERSION:2.0
PRODID:icalendar-ruby
CALSCALE:GREGORIAN
METHOD:PUBLISH
X-WR-CALNAME:Kulturkalender der Universitäts- und Hansestadt Greifswald
BEGIN:VEVENT
DTSTAMP:20260420T041904Z
UID:6b229aef-505d-4797-aca7-3d63bbcf8b1e
DTSTART:20260529T200000
DESCRIPTION:http://www.kulturkalender.greifswald.de/events/59211?start_on=2
 026-05-29
LOCATION:_Anderer Ort
SUMMARY:Drehmoment – Abende für Männer
END:VEVENT
END:VCALENDAR
