BEGIN:VCALENDAR
VERSION:2.0
PRODID:icalendar-ruby
CALSCALE:GREGORIAN
METHOD:PUBLISH
X-WR-CALNAME:Kulturkalender der Universitäts- und Hansestadt Greifswald
BEGIN:VEVENT
DTSTAMP:20260425T121002Z
UID:fae41a09-9771-4255-b58d-c2175edfc856
DTSTART:20260517T140000
DESCRIPTION:http://www.kulturkalender.greifswald.de/events/59209?start_on=2
 026-05-17
LOCATION:STRAZE
SUMMARY:Tischtennis for neighbourhood
END:VEVENT
END:VCALENDAR
