BEGIN:VCALENDAR
VERSION:2.0
PRODID:icalendar-ruby
CALSCALE:GREGORIAN
METHOD:PUBLISH
X-WR-CALNAME:Kulturkalender der Universitäts- und Hansestadt Greifswald
BEGIN:VEVENT
DTSTAMP:20260425T013755Z
UID:824e676c-dcb5-4bc3-a71a-6aa51afd9e59
DTSTART:20260425T190000
DESCRIPTION:http://www.kulturkalender.greifswald.de/events/59175?start_on=2
 026-04-25
LOCATION:Groß Kiesow - Kirche St. Laurentius
SUMMARY:gewissenhaft
END:VEVENT
END:VCALENDAR
