BEGIN:VCALENDAR
VERSION:2.0
PRODID:icalendar-ruby
CALSCALE:GREGORIAN
METHOD:PUBLISH
X-WR-CALNAME:Kulturkalender der Universitäts- und Hansestadt Greifswald
BEGIN:VEVENT
DTSTAMP:20260421T175036Z
UID:ed92c1ea-917b-47d4-928d-088c6f9a203e
DTSTART;VALUE=DATE:20260418
DTEND;VALUE=DATE:20260713
LOCATION:Caspar-David-Friedrich-Zentrum
SUMMARY:Ines Spanier & Oliver Thie: Streifzüge
END:VEVENT
END:VCALENDAR
